BEGIN:VCALENDAR
VERSION:2.0
PRODID:-//mairie de bapaume - ECPv6.15.20//NONSGML v1.0//EN
CALSCALE:GREGORIAN
METHOD:PUBLISH
X-ORIGINAL-URL:https://preprod.bapaume.fr
X-WR-CALDESC:Évènements pour mairie de bapaume
REFRESH-INTERVAL;VALUE=DURATION:PT1H
X-Robots-Tag:noindex
X-PUBLISHED-TTL:PT1H
BEGIN:VTIMEZONE
TZID:Europe/Paris
BEGIN:DAYLIGHT
TZOFFSETFROM:+0100
TZOFFSETTO:+0200
TZNAME:CEST
DTSTART:20250330T010000
END:DAYLIGHT
BEGIN:STANDARD
TZOFFSETFROM:+0200
TZOFFSETTO:+0100
TZNAME:CET
DTSTART:20251026T010000
END:STANDARD
BEGIN:DAYLIGHT
TZOFFSETFROM:+0100
TZOFFSETTO:+0200
TZNAME:CEST
DTSTART:20260329T010000
END:DAYLIGHT
BEGIN:STANDARD
TZOFFSETFROM:+0200
TZOFFSETTO:+0100
TZNAME:CET
DTSTART:20261025T010000
END:STANDARD
BEGIN:DAYLIGHT
TZOFFSETFROM:+0100
TZOFFSETTO:+0200
TZNAME:CEST
DTSTART:20270328T010000
END:DAYLIGHT
BEGIN:STANDARD
TZOFFSETFROM:+0200
TZOFFSETTO:+0100
TZNAME:CET
DTSTART:20271031T010000
END:STANDARD
END:VTIMEZONE
BEGIN:VEVENT
DTSTART;TZID=Europe/Paris:20260213T194500
DTEND;TZID=Europe/Paris:20260213T214500
DTSTAMP:20260421T141834
CREATED:20260126T094008Z
LAST-MODIFIED:20260126T094008Z
UID:2262-1771011900-1771019100@preprod.bapaume.fr
SUMMARY:Goliath
DESCRIPTION:France\, professeure de sport le jour\, ouvrière la nuit\, milite activement contre l’usage des pesticides. Patrick\, obscur et solitaire avocat parisien\, est spécialiste en droit environnemental. Mathias\, lobbyiste brillant et homme pressé\, défend les intérêts d’un géant de l’agrochimie. Suite à l’acte radical d’une anonyme\, ces trois destins\, qui n’auraient jamais dû se croiser\, vont se bousculer\, s’entrechoquer et s’embraser. \nBilletterie Weezevent
URL:https://preprod.bapaume.fr/event/goliath/
LOCATION:Espace Isabelle de Hainaut\, Rue de Saint-Quentin\, Bapaume\, 62450\, France
ATTACH;FMTTYPE=image/jpeg:https://preprod.bapaume.fr/wp-content/uploads/2026/01/MAQUETTE-CINEMA-FEVRIER-2026-scaled.jpg
END:VEVENT
END:VCALENDAR